BEGIN:VCALENDAR
VERSION:2.0
PRODID:-//bostherapiecentrum - ECPv6.15.20//NONSGML v1.0//EN
CALSCALE:GREGORIAN
METHOD:PUBLISH
X-ORIGINAL-URL:https://bostherapiecentrum.nl
X-WR-CALDESC:Evenementen voor bostherapiecentrum
REFRESH-INTERVAL;VALUE=DURATION:PT1H
X-Robots-Tag:noindex
X-PUBLISHED-TTL:PT1H
BEGIN:VTIMEZONE
TZID:Europe/Amsterdam
BEGIN:DAYLIGHT
TZOFFSETFROM:+0100
TZOFFSETTO:+0200
TZNAME:CEST
DTSTART:20240331T010000
END:DAYLIGHT
BEGIN:STANDARD
TZOFFSETFROM:+0200
TZOFFSETTO:+0100
TZNAME:CET
DTSTART:20241027T010000
END:STANDARD
BEGIN:DAYLIGHT
TZOFFSETFROM:+0100
TZOFFSETTO:+0200
TZNAME:CEST
DTSTART:20250330T010000
END:DAYLIGHT
BEGIN:STANDARD
TZOFFSETFROM:+0200
TZOFFSETTO:+0100
TZNAME:CET
DTSTART:20251026T010000
END:STANDARD
BEGIN:DAYLIGHT
TZOFFSETFROM:+0100
TZOFFSETTO:+0200
TZNAME:CEST
DTSTART:20260329T010000
END:DAYLIGHT
BEGIN:STANDARD
TZOFFSETFROM:+0200
TZOFFSETTO:+0100
TZNAME:CET
DTSTART:20261025T010000
END:STANDARD
END:VTIMEZONE
BEGIN:VEVENT
DTSTART;TZID=Europe/Amsterdam:20250509T090000
DTEND;TZID=Europe/Amsterdam:20250509T110000
DTSTAMP:20260421T161946
CREATED:20251225T150620Z
LAST-MODIFIED:20251225T150620Z
UID:144-1746781200-1746788400@bostherapiecentrum.nl
SUMMARY:Mind-Walk®
DESCRIPTION:Tarief: €39\,50 per persoon \nMaximaal aantal deelnemers: 6
URL:https://bostherapiecentrum.nl/event/mind-walk-9/
LOCATION:Dopersduin (verzamelpunt)\, Oorsprongweg 3\, Schoorl\, 1871 HA\, Netherlands
ORGANIZER;CN="Lilian Bensdorp":MAILTO:info@lilianbensdorp.nl
END:VEVENT
BEGIN:VEVENT
DTSTART;TZID=Europe/Amsterdam:20250509T090000
DTEND;TZID=Europe/Amsterdam:20250509T110000
DTSTAMP:20260421T161946
CREATED:20251225T150620Z
LAST-MODIFIED:20251225T150620Z
UID:382-1746781200-1746788400@bostherapiecentrum.nl
SUMMARY:Mind-Walk®
DESCRIPTION:Tarief: €39\,50 per persoon \nMaximaal aantal deelnemers: 6
URL:https://bostherapiecentrum.nl/event/mind-walk-9-2/
LOCATION:Dopersduin (verzamelpunt)\, Oorsprongweg 3\, Schoorl\, 1871 HA\, Netherlands
ORGANIZER;CN="Lilian Bensdorp":MAILTO:info@lilianbensdorp.nl
END:VEVENT
BEGIN:VEVENT
DTSTART;TZID=Europe/Amsterdam:20250509T103000
DTEND;TZID=Europe/Amsterdam:20250509T123000
DTSTAMP:20260421T161946
CREATED:20251225T150620Z
LAST-MODIFIED:20251225T150620Z
UID:143-1746786600-1746793800@bostherapiecentrum.nl
SUMMARY:Stiltewandeling
DESCRIPTION:Tarief: €39\,50 per persoon \nMaximaal aantal deelnemers: 6
URL:https://bostherapiecentrum.nl/event/stiltewandeling-3/
LOCATION:Landgoed Huize Glory\, Elzenlaan 2\, Bergen aan Zee\, 1865 BM\, Netherlands
ORGANIZER;CN="Allet Geertman":MAILTO:allet.geertman@gmail.com
END:VEVENT
BEGIN:VEVENT
DTSTART;TZID=Europe/Amsterdam:20250509T103000
DTEND;TZID=Europe/Amsterdam:20250509T123000
DTSTAMP:20260421T161946
CREATED:20251225T150620Z
LAST-MODIFIED:20251225T150620Z
UID:381-1746786600-1746793800@bostherapiecentrum.nl
SUMMARY:Stiltewandeling
DESCRIPTION:Tarief: €39\,50 per persoon \nMaximaal aantal deelnemers: 6
URL:https://bostherapiecentrum.nl/event/stiltewandeling-3-2/
LOCATION:Landgoed Huize Glory\, Elzenlaan 2\, Bergen aan Zee\, 1865 BM\, Netherlands
ORGANIZER;CN="Allet Geertman":MAILTO:allet.geertman@gmail.com
END:VEVENT
END:VCALENDAR