BEGIN:VCALENDAR
VERSION:2.0
PRODID:-//bostherapiecentrum - ECPv6.15.20//NONSGML v1.0//EN
CALSCALE:GREGORIAN
METHOD:PUBLISH
X-WR-CALNAME:bostherapiecentrum
X-ORIGINAL-URL:https://bostherapiecentrum.nl
X-WR-CALDESC:Evenementen voor bostherapiecentrum
REFRESH-INTERVAL;VALUE=DURATION:PT1H
X-Robots-Tag:noindex
X-PUBLISHED-TTL:PT1H
BEGIN:VTIMEZONE
TZID:Europe/Amsterdam
BEGIN:DAYLIGHT
TZOFFSETFROM:+0100
TZOFFSETTO:+0200
TZNAME:CEST
DTSTART:20250330T010000
END:DAYLIGHT
BEGIN:STANDARD
TZOFFSETFROM:+0200
TZOFFSETTO:+0100
TZNAME:CET
DTSTART:20251026T010000
END:STANDARD
BEGIN:DAYLIGHT
TZOFFSETFROM:+0100
TZOFFSETTO:+0200
TZNAME:CEST
DTSTART:20260329T010000
END:DAYLIGHT
BEGIN:STANDARD
TZOFFSETFROM:+0200
TZOFFSETTO:+0100
TZNAME:CET
DTSTART:20261025T010000
END:STANDARD
BEGIN:DAYLIGHT
TZOFFSETFROM:+0100
TZOFFSETTO:+0200
TZNAME:CEST
DTSTART:20270328T010000
END:DAYLIGHT
BEGIN:STANDARD
TZOFFSETFROM:+0200
TZOFFSETTO:+0100
TZNAME:CET
DTSTART:20271031T010000
END:STANDARD
END:VTIMEZONE
BEGIN:VEVENT
DTSTART;TZID=Europe/Amsterdam:20260612T090000
DTEND;TZID=Europe/Amsterdam:20260612T110000
DTSTAMP:20260421T100412
CREATED:20260420T143035Z
LAST-MODIFIED:20260420T143735Z
UID:557-1781254800-1781262000@bostherapiecentrum.nl
SUMMARY:Mind-Walk®
DESCRIPTION:
URL:https://bostherapiecentrum.nl/event/mind-walk-27/
LOCATION:Bergense Bos\, Breelaan 132\, Bergen\, 1861 GH\, Netherlands
ORGANIZER;CN="Patricia Hoekstra":MAILTO:patricia@vislavie.nl
END:VEVENT
BEGIN:VEVENT
DTSTART;TZID=Europe/Amsterdam:20260608T093000
DTEND;TZID=Europe/Amsterdam:20260608T104500
DTSTAMP:20260421T100412
CREATED:20260420T143036Z
LAST-MODIFIED:20260420T143735Z
UID:561-1780911000-1780915500@bostherapiecentrum.nl
SUMMARY:Natuuryoga
DESCRIPTION:
URL:https://bostherapiecentrum.nl/event/natuuryoga-2/
LOCATION:Nieuwe keuze: Schoorl
ORGANIZER;CN="Patricia Hoekstra":MAILTO:patricia@vislavie.nl
END:VEVENT
BEGIN:VEVENT
DTSTART;TZID=Europe/Amsterdam:20260608T093000
DTEND;TZID=Europe/Amsterdam:20260608T104500
DTSTAMP:20260421T100412
CREATED:20260420T143035Z
LAST-MODIFIED:20260420T143735Z
UID:554-1780911000-1780915500@bostherapiecentrum.nl
SUMMARY:Natuuryoga
DESCRIPTION:
URL:https://bostherapiecentrum.nl/event/natuuryoga/
LOCATION:Nieuwe keuze: Schoorl
ORGANIZER;CN="Patricia Hoekstra":MAILTO:patricia@vislavie.nl
END:VEVENT
BEGIN:VEVENT
DTSTART;TZID=Europe/Amsterdam:20260605T090000
DTEND;TZID=Europe/Amsterdam:20260605T110000
DTSTAMP:20260421T100412
CREATED:20260420T143035Z
LAST-MODIFIED:20260420T143735Z
UID:553-1780650000-1780657200@bostherapiecentrum.nl
SUMMARY:Mind-Walk®
DESCRIPTION:
URL:https://bostherapiecentrum.nl/event/mind-walk-26/
LOCATION:Dopersduin (verzamelpunt)\, Oorsprongweg 3\, Schoorl\, 1871 HA\, Netherlands
ORGANIZER;CN="Lilian Bensdorp":MAILTO:info@lilianbensdorp.nl
END:VEVENT
BEGIN:VEVENT
DTSTART;TZID=Europe/Amsterdam:20260603T090000
DTEND;TZID=Europe/Amsterdam:20260603T120000
DTSTAMP:20260421T100412
CREATED:20260420T143035Z
LAST-MODIFIED:20260420T143735Z
UID:552-1780477200-1780488000@bostherapiecentrum.nl
SUMMARY:Shinrin-Yoku
DESCRIPTION:
URL:https://bostherapiecentrum.nl/event/shinrin-yoku-14/
LOCATION:Dopersduin\, Oorsprongweg 3\, Schoorl\, 1871 HA\, Netherlands
ORGANIZER;CN="Patricia Hoekstra":MAILTO:patricia@vislavie.nl
END:VEVENT
BEGIN:VEVENT
DTSTART;TZID=Europe/Amsterdam:20260602T180000
DTEND;TZID=Europe/Amsterdam:20260602T210000
DTSTAMP:20260421T100412
CREATED:20260420T143035Z
LAST-MODIFIED:20260420T143735Z
UID:551-1780423200-1780434000@bostherapiecentrum.nl
SUMMARY:Shinrin-Yoku
DESCRIPTION:
URL:https://bostherapiecentrum.nl/event/shinrin-yoku-13/
LOCATION:Landgoed Stoutenburg\, Stoutenburgerlaan 5\, Stoutenburg\, 3835 PB\, Netherlands
ORGANIZER;CN="Femke Banga":MAILTO:info@y-ournature.nl
END:VEVENT
BEGIN:VEVENT
DTSTART;TZID=Europe/Amsterdam:20260529T090000
DTEND;TZID=Europe/Amsterdam:20260529T120000
DTSTAMP:20260421T100412
CREATED:20260420T143035Z
LAST-MODIFIED:20260420T143735Z
UID:550-1780045200-1780056000@bostherapiecentrum.nl
SUMMARY:Shinrin-Yoku
DESCRIPTION:
URL:https://bostherapiecentrum.nl/event/shinrin-yoku-12/
LOCATION:De Bokkesprong in Groet
ORGANIZER;CN="Lilian Bensdorp":MAILTO:info@lilianbensdorp.nl
END:VEVENT
BEGIN:VEVENT
DTSTART;TZID=Europe/Amsterdam:20260526T180000
DTEND;TZID=Europe/Amsterdam:20260526T210000
DTSTAMP:20260421T100412
CREATED:20260420T143035Z
LAST-MODIFIED:20260420T143735Z
UID:549-1779818400-1779829200@bostherapiecentrum.nl
SUMMARY:Shinrin-Yoku
DESCRIPTION:
URL:https://bostherapiecentrum.nl/event/shinrin-yoku-11/
LOCATION:De Kozakkenput\, Kampdwarsweg\, Soesterberg\, 3769 DK\, Netherlands
ORGANIZER;CN="Femke Banga":MAILTO:info@y-ournature.nl
END:VEVENT
BEGIN:VEVENT
DTSTART;TZID=Europe/Amsterdam:20260523T090000
DTEND;TZID=Europe/Amsterdam:20260523T120000
DTSTAMP:20260421T100412
CREATED:20260420T143035Z
LAST-MODIFIED:20260420T143735Z
UID:548-1779526800-1779537600@bostherapiecentrum.nl
SUMMARY:Shinrin-Yoku
DESCRIPTION:
URL:https://bostherapiecentrum.nl/event/shinrin-yoku-10/
LOCATION:Dopersduin (verzamelpunt)\, Oorsprongweg 3\, Schoorl\, 1871 HA\, Netherlands
ORGANIZER;CN="Ingrid Booster":MAILTO:ingridbooster@icloud.com
END:VEVENT
BEGIN:VEVENT
DTSTART;TZID=Europe/Amsterdam:20260522T100000
DTEND;TZID=Europe/Amsterdam:20260522T130000
DTSTAMP:20260421T100412
CREATED:20260420T143035Z
LAST-MODIFIED:20260420T143734Z
UID:545-1779444000-1779454800@bostherapiecentrum.nl
SUMMARY:Shinrin-Yoku
DESCRIPTION:
URL:https://bostherapiecentrum.nl/event/shinrin-yoku-8/
LOCATION:Veluwe Speulderbos\, Drieërweg 124\, Ermelo\, 3852 MD\, Netherlands
ORGANIZER;CN="Birgit Snelleman":MAILTO:birgit@factorv.nl
END:VEVENT
BEGIN:VEVENT
DTSTART;TZID=Europe/Amsterdam:20260522T090000
DTEND;TZID=Europe/Amsterdam:20260522T120000
DTSTAMP:20260421T100412
CREATED:20260420T143035Z
LAST-MODIFIED:20260420T143734Z
UID:547-1779440400-1779451200@bostherapiecentrum.nl
SUMMARY:Shinrin-Yoku
DESCRIPTION:
URL:https://bostherapiecentrum.nl/event/shinrin-yoku-9/
LOCATION:Bergense Bos\, Breelaan 132\, Bergen\, 1861 GH\, Netherlands
ORGANIZER;CN="Patricia Hoekstra":MAILTO:patricia@vislavie.nl
END:VEVENT
BEGIN:VEVENT
DTSTART;TZID=Europe/Amsterdam:20260522T090000
DTEND;TZID=Europe/Amsterdam:20260522T110000
DTSTAMP:20260421T100412
CREATED:20260420T143035Z
LAST-MODIFIED:20260420T143734Z
UID:546-1779440400-1779447600@bostherapiecentrum.nl
SUMMARY:Mind-Walk®
DESCRIPTION:
URL:https://bostherapiecentrum.nl/event/mind-walk-25/
LOCATION:Dopersduin (verzamelpunt)\, Oorsprongweg 3\, Schoorl\, 1871 HA\, Netherlands
ORGANIZER;CN="Lilian Bensdorp":MAILTO:info@lilianbensdorp.nl
END:VEVENT
BEGIN:VEVENT
DTSTART;TZID=Europe/Amsterdam:20260520T180000
DTEND;TZID=Europe/Amsterdam:20260520T210000
DTSTAMP:20260421T100412
CREATED:20260420T143035Z
LAST-MODIFIED:20260420T143734Z
UID:543-1779300000-1779310800@bostherapiecentrum.nl
SUMMARY:Shinrin-Yoku
DESCRIPTION:
URL:https://bostherapiecentrum.nl/event/shinrin-yoku-7/
LOCATION:Pinetum Birkhoven
ORGANIZER;CN="Femke Banga":MAILTO:info@y-ournature.nl
END:VEVENT
BEGIN:VEVENT
DTSTART;TZID=Europe/Amsterdam:20260516T090000
DTEND;TZID=Europe/Amsterdam:20260516T120000
DTSTAMP:20260421T100412
CREATED:20260420T143035Z
LAST-MODIFIED:20260420T143734Z
UID:542-1778922000-1778932800@bostherapiecentrum.nl
SUMMARY:Shinrin-Yoku
DESCRIPTION:
URL:https://bostherapiecentrum.nl/event/shinrin-yoku-6/
LOCATION:Dopersduin (verzamelpunt)\, Oorsprongweg 3\, Schoorl\, 1871 HA\, Netherlands
ORGANIZER;CN="Ingrid Booster":MAILTO:ingridbooster@icloud.com
END:VEVENT
BEGIN:VEVENT
DTSTART;TZID=Europe/Amsterdam:20260515T093000
DTEND;TZID=Europe/Amsterdam:20260515T123000
DTSTAMP:20260421T100412
CREATED:20260420T143035Z
LAST-MODIFIED:20260420T143734Z
UID:541-1778837400-1778848200@bostherapiecentrum.nl
SUMMARY:Shinrin-Yoku
DESCRIPTION:
URL:https://bostherapiecentrum.nl/event/shinrin-yoku-5/
LOCATION:Delftse Hout\, Noordeindseweg 70\, Delfgauw\, 2645 BC\, Netherlands
ORGANIZER;CN="Birgit Snelleman":MAILTO:birgit@factorv.nl
END:VEVENT
BEGIN:VEVENT
DTSTART;TZID=Europe/Amsterdam:20260513T090000
DTEND;TZID=Europe/Amsterdam:20260513T120000
DTSTAMP:20260421T100412
CREATED:20260420T143035Z
LAST-MODIFIED:20260420T143734Z
UID:540-1778662800-1778673600@bostherapiecentrum.nl
SUMMARY:Shinrin-Yoku
DESCRIPTION:
URL:https://bostherapiecentrum.nl/event/shinrin-yoku-4/
LOCATION:Bergense Bos\, Breelaan 132\, Bergen\, 1861 GH\, Netherlands
ORGANIZER;CN="Patricia Hoekstra":MAILTO:patricia@vislavie.nl
END:VEVENT
BEGIN:VEVENT
DTSTART;TZID=Europe/Amsterdam:20260508T090000
DTEND;TZID=Europe/Amsterdam:20260508T120000
DTSTAMP:20260421T100412
CREATED:20260420T143035Z
LAST-MODIFIED:20260420T143734Z
UID:538-1778230800-1778241600@bostherapiecentrum.nl
SUMMARY:Shinrin-Yoku
DESCRIPTION:
URL:https://bostherapiecentrum.nl/event/shinrin-yoku-3/
LOCATION:De Bokkesprong in Groet
ORGANIZER;CN="Lilian Bensdorp":MAILTO:info@lilianbensdorp.nl
END:VEVENT
BEGIN:VEVENT
DTSTART;TZID=Europe/Amsterdam:20260506T180000
DTEND;TZID=Europe/Amsterdam:20260506T210000
DTSTAMP:20260421T100412
CREATED:20260420T143035Z
LAST-MODIFIED:20260420T143734Z
UID:537-1778090400-1778101200@bostherapiecentrum.nl
SUMMARY:Shinrin-Yoku
DESCRIPTION:
URL:https://bostherapiecentrum.nl/event/shinrin-yoku-2/
LOCATION:Hoog Moersbergen\, Moersbergen 1\, Doorn\, Netherlands
ORGANIZER;CN="Femke Banga":MAILTO:info@y-ournature.nl
END:VEVENT
BEGIN:VEVENT
DTSTART;TZID=Europe/Amsterdam:20260504T160000
DTEND;TZID=Europe/Amsterdam:20260504T190000
DTSTAMP:20260421T100412
CREATED:20260420T143035Z
LAST-MODIFIED:20260420T143734Z
UID:536-1777910400-1777921200@bostherapiecentrum.nl
SUMMARY:Shinrin-Yoku
DESCRIPTION:
URL:https://bostherapiecentrum.nl/event/shinrin-yoku/
LOCATION:Veluwe Speulderbos\, Drieërweg 124\, Ermelo\, 3852 MD\, Netherlands
ORGANIZER;CN="Birgit Snelleman":MAILTO:birgit@factorv.nl
END:VEVENT
BEGIN:VEVENT
DTSTART;TZID=Europe/Amsterdam:20260417T100000
DTEND;TZID=Europe/Amsterdam:20260417T130000
DTSTAMP:20260421T100412
CREATED:20260312T205102Z
LAST-MODIFIED:20260312T205102Z
UID:475-1776420000-1776430800@bostherapiecentrum.nl
SUMMARY:Shinrin-Yoku wandeling
DESCRIPTION:Tarief: €39\,50 per persoon \nMaximaal aantal deelnemers: 6
URL:https://bostherapiecentrum.nl/event/shinrin-yoku-wandeling-90/
LOCATION:Veluwe Speulderbos\, Drieërweg 124\, Ermelo\, 3852 MD\, Netherlands
ORGANIZER;CN="Birgit Snelleman":MAILTO:birgit@factorv.nl
END:VEVENT
BEGIN:VEVENT
DTSTART;TZID=Europe/Amsterdam:20260416T100000
DTEND;TZID=Europe/Amsterdam:20260416T120000
DTSTAMP:20260421T100412
CREATED:20260312T205102Z
LAST-MODIFIED:20260312T205102Z
UID:247-1776333600-1776340800@bostherapiecentrum.nl
SUMMARY:Stiltewandeling
DESCRIPTION:Tarief: €39\,50 per persoon \nMaximaal aantal deelnemers: 6
URL:https://bostherapiecentrum.nl/event/stiltewandeling-17/
LOCATION:Landgoed Huize Glory\, Elzenlaan 2\, Bergen aan Zee\, 1865 BM\, Netherlands
ORGANIZER;CN="Allet Geertman":MAILTO:allet.geertman@gmail.com
END:VEVENT
BEGIN:VEVENT
DTSTART;TZID=Europe/Amsterdam:20260414T173000
DTEND;TZID=Europe/Amsterdam:20260414T203000
DTSTAMP:20260421T100412
CREATED:20260312T205102Z
LAST-MODIFIED:20260312T205102Z
UID:246-1776187800-1776198600@bostherapiecentrum.nl
SUMMARY:Shinrin-Yoku wandeling
DESCRIPTION:Tarief: €39\,50 per persoon \nMaximaal aantal deelnemers: 6
URL:https://bostherapiecentrum.nl/event/shinrin-yoku-wandeling-89/
LOCATION:Hoog Moersbergen\, Moersbergen 1\, Doorn\, Netherlands
ORGANIZER;CN="Femke Banga":MAILTO:info@y-ournature.nl
END:VEVENT
BEGIN:VEVENT
DTSTART;TZID=Europe/Amsterdam:20260410T090000
DTEND;TZID=Europe/Amsterdam:20260410T120000
DTSTAMP:20260421T100412
CREATED:20260312T205102Z
LAST-MODIFIED:20260312T205102Z
UID:245-1775811600-1775822400@bostherapiecentrum.nl
SUMMARY:Shinrin-Yoku wandeling
DESCRIPTION:Tarief: €39\,50 per persoon \nMaximaal aantal deelnemers: 6
URL:https://bostherapiecentrum.nl/event/shinrin-yoku-wandeling-88/
LOCATION:Bergense Bos\, Breelaan 132\, Bergen\, 1861 GH\, Netherlands
ORGANIZER;CN="Patricia Hoekstra":MAILTO:patricia@vislavie.nl
END:VEVENT
BEGIN:VEVENT
DTSTART;TZID=Europe/Amsterdam:20260410T090000
DTEND;TZID=Europe/Amsterdam:20260410T120000
DTSTAMP:20260421T100412
CREATED:20251225T150620Z
LAST-MODIFIED:20251225T150620Z
UID:117-1775811600-1775822400@bostherapiecentrum.nl
SUMMARY:Shinrin-Yoku wandeling
DESCRIPTION:Tarief: €39\,50 per persoon \nMaximaal aantal deelnemers: 6
URL:https://bostherapiecentrum.nl/event/shinrin-yoku-wandeling-13/
LOCATION:Bergense Bos\, Breelaan 132\, Bergen\, 1861 GH\, Netherlands
ORGANIZER;CN="Patricia Hoekstra":MAILTO:patricia@vislavie.nl
END:VEVENT
BEGIN:VEVENT
DTSTART;TZID=Europe/Amsterdam:20260408T090000
DTEND;TZID=Europe/Amsterdam:20260408T120000
DTSTAMP:20260421T100412
CREATED:20260312T205102Z
LAST-MODIFIED:20260312T205102Z
UID:244-1775638800-1775649600@bostherapiecentrum.nl
SUMMARY:Shinrin-Yoku wandeling
DESCRIPTION:Tarief: €39\,50 per persoon \nMaximaal aantal deelnemers: 6
URL:https://bostherapiecentrum.nl/event/shinrin-yoku-wandeling-87/
LOCATION:Dopersduin\, Oorsprongweg 3\, Schoorl\, 1871 HA\, Netherlands
ORGANIZER;CN="Ton Bremer":MAILTO:bostonbremer@icloud.com
END:VEVENT
BEGIN:VEVENT
DTSTART;TZID=Europe/Amsterdam:20260403T090000
DTEND;TZID=Europe/Amsterdam:20260403T110000
DTSTAMP:20260421T100412
CREATED:20260312T205102Z
LAST-MODIFIED:20260312T205102Z
UID:243-1775206800-1775214000@bostherapiecentrum.nl
SUMMARY:Mind-Walk®
DESCRIPTION:Tarief: €39\,50 per persoon \nMaximaal aantal deelnemers: 6
URL:https://bostherapiecentrum.nl/event/mind-walk-24/
LOCATION:De Bokkesprong\, Heereweg 337\, Groet\, 1873 GC\, Netherlands
ORGANIZER;CN="Lilian Bensdorp":MAILTO:info@lilianbensdorp.nl
END:VEVENT
BEGIN:VEVENT
DTSTART;TZID=Europe/Amsterdam:20260402T100000
DTEND;TZID=Europe/Amsterdam:20260402T120000
DTSTAMP:20260421T100412
CREATED:20260312T205102Z
LAST-MODIFIED:20260312T205102Z
UID:474-1775124000-1775131200@bostherapiecentrum.nl
SUMMARY:Stiltewandeling
DESCRIPTION:Tarief: €39\,50 per persoon \nMaximaal aantal deelnemers: 6
URL:https://bostherapiecentrum.nl/event/stiltewandeling-16/
LOCATION:Landgoed Huize Glory\, Elzenlaan 2\, Bergen aan Zee\, 1865 BM\, Netherlands
ORGANIZER;CN="Allet Geertman":MAILTO:allet.geertman@gmail.com
END:VEVENT
BEGIN:VEVENT
DTSTART;TZID=Europe/Amsterdam:20260401T073000
DTEND;TZID=Europe/Amsterdam:20260401T103000
DTSTAMP:20260421T100412
CREATED:20260312T205102Z
LAST-MODIFIED:20260312T205102Z
UID:473-1775028600-1775039400@bostherapiecentrum.nl
SUMMARY:Shinrin-Yoku wandeling
DESCRIPTION:Tarief: €39\,50 per persoon \nMaximaal aantal deelnemers: 6
URL:https://bostherapiecentrum.nl/event/shinrin-yoku-wandeling-86/
LOCATION:Landgoed Stoutenburg\, Stoutenburgerlaan 5\, Stoutenburg\, 3835 PB\, Netherlands
ORGANIZER;CN="Femke Banga":MAILTO:info@y-ournature.nl
END:VEVENT
BEGIN:VEVENT
DTSTART;TZID=Europe/Amsterdam:20260327T140000
DTEND;TZID=Europe/Amsterdam:20260327T150000
DTSTAMP:20260421T100412
CREATED:20260312T205102Z
LAST-MODIFIED:20260312T205102Z
UID:472-1774620000-1774623600@bostherapiecentrum.nl
SUMMARY:Shinrin-Yoku wandeling
DESCRIPTION:Tarief: €39\,50 per persoon \nMaximaal aantal deelnemers: 6
URL:https://bostherapiecentrum.nl/event/shinrin-yoku-wandeling-85/
LOCATION:De Kozakkenput\, Kampdwarsweg\, Soesterberg\, 3769 DK\, Netherlands
ORGANIZER;CN="Femke Banga":MAILTO:info@y-ournature.nl
END:VEVENT
BEGIN:VEVENT
DTSTART;TZID=Europe/Amsterdam:20260327T100000
DTEND;TZID=Europe/Amsterdam:20260327T130000
DTSTAMP:20260421T100412
CREATED:20260312T205102Z
LAST-MODIFIED:20260312T205102Z
UID:470-1774605600-1774616400@bostherapiecentrum.nl
SUMMARY:Shinrin-Yoku wandeling
DESCRIPTION:Tarief: €39\,50 per persoon \nMaximaal aantal deelnemers: 6
URL:https://bostherapiecentrum.nl/event/shinrin-yoku-wandeling-84/
LOCATION:Veluwe Speulderbos\, Drieërweg 124\, Ermelo\, 3852 MD\, Netherlands
ORGANIZER;CN="Birgit Snelleman":MAILTO:birgit@factorv.nl
END:VEVENT
END:VCALENDAR