BEGIN:VCALENDAR
VERSION:2.0
PRODID:-//bostherapiecentrum - ECPv6.15.20//NONSGML v1.0//EN
CALSCALE:GREGORIAN
METHOD:PUBLISH
X-WR-CALNAME:bostherapiecentrum
X-ORIGINAL-URL:https://bostherapiecentrum.nl
X-WR-CALDESC:Evenementen voor bostherapiecentrum
REFRESH-INTERVAL;VALUE=DURATION:PT1H
X-Robots-Tag:noindex
X-PUBLISHED-TTL:PT1H
BEGIN:VTIMEZONE
TZID:Europe/Amsterdam
BEGIN:DAYLIGHT
TZOFFSETFROM:+0100
TZOFFSETTO:+0200
TZNAME:CEST
DTSTART:20250330T010000
END:DAYLIGHT
BEGIN:STANDARD
TZOFFSETFROM:+0200
TZOFFSETTO:+0100
TZNAME:CET
DTSTART:20251026T010000
END:STANDARD
BEGIN:DAYLIGHT
TZOFFSETFROM:+0100
TZOFFSETTO:+0200
TZNAME:CEST
DTSTART:20260329T010000
END:DAYLIGHT
BEGIN:STANDARD
TZOFFSETFROM:+0200
TZOFFSETTO:+0100
TZNAME:CET
DTSTART:20261025T010000
END:STANDARD
BEGIN:DAYLIGHT
TZOFFSETFROM:+0100
TZOFFSETTO:+0200
TZNAME:CEST
DTSTART:20270328T010000
END:DAYLIGHT
BEGIN:STANDARD
TZOFFSETFROM:+0200
TZOFFSETTO:+0100
TZNAME:CET
DTSTART:20271031T010000
END:STANDARD
END:VTIMEZONE
BEGIN:VEVENT
DTSTART;TZID=Europe/Amsterdam:20260717T090000
DTEND;TZID=Europe/Amsterdam:20260717T110000
DTSTAMP:20260421T131313
CREATED:20260420T143036Z
LAST-MODIFIED:20260420T143735Z
UID:572-1784278800-1784286000@bostherapiecentrum.nl
SUMMARY:Mind-Walk®
DESCRIPTION:
URL:https://bostherapiecentrum.nl/event/mind-walk-28/
LOCATION:Dopersduin (verzamelpunt)\, Oorsprongweg 3\, Schoorl\, 1871 HA\, Netherlands
ORGANIZER;CN="Lilian Bensdorp":MAILTO:info@lilianbensdorp.nl
END:VEVENT
BEGIN:VEVENT
DTSTART;TZID=Europe/Amsterdam:20260718T093000
DTEND;TZID=Europe/Amsterdam:20260718T123000
DTSTAMP:20260421T131313
CREATED:20260420T143036Z
LAST-MODIFIED:20260420T143735Z
UID:573-1784367000-1784377800@bostherapiecentrum.nl
SUMMARY:Shinrin-Yoku
DESCRIPTION:
URL:https://bostherapiecentrum.nl/event/shinrin-yoku-28/
LOCATION:Veluwe Speulderbos\, Drieërweg 124\, Ermelo\, 3852 MD\, Netherlands
ORGANIZER;CN="Birgit Snelleman":MAILTO:birgit@factorv.nl
END:VEVENT
BEGIN:VEVENT
DTSTART;TZID=Europe/Amsterdam:20260721T193000
DTEND;TZID=Europe/Amsterdam:20260721T204500
DTSTAMP:20260421T131313
CREATED:20260420T143036Z
LAST-MODIFIED:20260420T143735Z
UID:574-1784662200-1784666700@bostherapiecentrum.nl
SUMMARY:Natuuryoga
DESCRIPTION:
URL:https://bostherapiecentrum.nl/event/natuuryoga-4/
ORGANIZER;CN="Lilian Bensdorp":MAILTO:info@lilianbensdorp.nl
END:VEVENT
BEGIN:VEVENT
DTSTART;TZID=Europe/Amsterdam:20260724T090000
DTEND;TZID=Europe/Amsterdam:20260724T120000
DTSTAMP:20260421T131313
CREATED:20260420T143036Z
LAST-MODIFIED:20260420T143735Z
UID:575-1784883600-1784894400@bostherapiecentrum.nl
SUMMARY:Shinrin-Yoku
DESCRIPTION:
URL:https://bostherapiecentrum.nl/event/shinrin-yoku-29/
LOCATION:Dopersduin (verzamelpunt)\, Oorsprongweg 3\, Schoorl\, 1871 HA\, Netherlands
ORGANIZER;CN="Lilian Bensdorp":MAILTO:info@lilianbensdorp.nl
END:VEVENT
BEGIN:VEVENT
DTSTART;TZID=Europe/Amsterdam:20260725T090000
DTEND;TZID=Europe/Amsterdam:20260725T120000
DTSTAMP:20260421T131313
CREATED:20260420T143037Z
LAST-MODIFIED:20260420T143735Z
UID:576-1784970000-1784980800@bostherapiecentrum.nl
SUMMARY:Shinrin-Yoku
DESCRIPTION:
URL:https://bostherapiecentrum.nl/event/shinrin-yoku-30/
LOCATION:Dopersduin (verzamelpunt)\, Oorsprongweg 3\, Schoorl\, 1871 HA\, Netherlands
ORGANIZER;CN="Ingrid Booster":MAILTO:ingridbooster@icloud.com
END:VEVENT
BEGIN:VEVENT
DTSTART;TZID=Europe/Amsterdam:20260728T193000
DTEND;TZID=Europe/Amsterdam:20260728T204500
DTSTAMP:20260421T131313
CREATED:20260420T143037Z
LAST-MODIFIED:20260420T143735Z
UID:577-1785267000-1785271500@bostherapiecentrum.nl
SUMMARY:Natuuryoga
DESCRIPTION:
URL:https://bostherapiecentrum.nl/event/natuuryoga-5/
ORGANIZER;CN="Lilian Bensdorp":MAILTO:info@lilianbensdorp.nl
END:VEVENT
BEGIN:VEVENT
DTSTART;TZID=Europe/Amsterdam:20260731T090000
DTEND;TZID=Europe/Amsterdam:20260731T120000
DTSTAMP:20260421T131313
CREATED:20260420T143037Z
LAST-MODIFIED:20260420T143735Z
UID:578-1785488400-1785499200@bostherapiecentrum.nl
SUMMARY:Shinrin-Yoku
DESCRIPTION:
URL:https://bostherapiecentrum.nl/event/shinrin-yoku-31/
LOCATION:Dopersduin (verzamelpunt)\, Oorsprongweg 3\, Schoorl\, 1871 HA\, Netherlands
ORGANIZER;CN="Ingrid Booster":MAILTO:ingridbooster@icloud.com
END:VEVENT
BEGIN:VEVENT
DTSTART;TZID=Europe/Amsterdam:20260804T193000
DTEND;TZID=Europe/Amsterdam:20260804T204500
DTSTAMP:20260421T131313
CREATED:20260420T143037Z
LAST-MODIFIED:20260420T143735Z
UID:579-1785871800-1785876300@bostherapiecentrum.nl
SUMMARY:Natuuryoga
DESCRIPTION:
URL:https://bostherapiecentrum.nl/event/natuuryoga-6/
ORGANIZER;CN="Lilian Bensdorp":MAILTO:info@lilianbensdorp.nl
END:VEVENT
BEGIN:VEVENT
DTSTART;TZID=Europe/Amsterdam:20260807T090000
DTEND;TZID=Europe/Amsterdam:20260807T120000
DTSTAMP:20260421T131313
CREATED:20260420T143037Z
LAST-MODIFIED:20260420T143735Z
UID:580-1786093200-1786104000@bostherapiecentrum.nl
SUMMARY:Shinrin-Yoku
DESCRIPTION:
URL:https://bostherapiecentrum.nl/event/shinrin-yoku-32/
LOCATION:Dopersduin (verzamelpunt)\, Oorsprongweg 3\, Schoorl\, 1871 HA\, Netherlands
ORGANIZER;CN="Lilian Bensdorp":MAILTO:info@lilianbensdorp.nl
END:VEVENT
BEGIN:VEVENT
DTSTART;TZID=Europe/Amsterdam:20260811T193000
DTEND;TZID=Europe/Amsterdam:20260811T204500
DTSTAMP:20260421T131313
CREATED:20260420T143037Z
LAST-MODIFIED:20260420T143735Z
UID:581-1786476600-1786481100@bostherapiecentrum.nl
SUMMARY:Natuuryoga
DESCRIPTION:
URL:https://bostherapiecentrum.nl/event/natuuryoga-7/
ORGANIZER;CN="Lilian Bensdorp":MAILTO:info@lilianbensdorp.nl
END:VEVENT
BEGIN:VEVENT
DTSTART;TZID=Europe/Amsterdam:20260814T090000
DTEND;TZID=Europe/Amsterdam:20260814T120000
DTSTAMP:20260421T131313
CREATED:20260420T143037Z
LAST-MODIFIED:20260420T143735Z
UID:582-1786698000-1786708800@bostherapiecentrum.nl
SUMMARY:Shinrin-Yoku
DESCRIPTION:
URL:https://bostherapiecentrum.nl/event/shinrin-yoku-33/
LOCATION:Dopersduin (verzamelpunt)\, Oorsprongweg 3\, Schoorl\, 1871 HA\, Netherlands
ORGANIZER;CN="Ingrid Booster":MAILTO:ingridbooster@icloud.com
END:VEVENT
BEGIN:VEVENT
DTSTART;TZID=Europe/Amsterdam:20260821T090000
DTEND;TZID=Europe/Amsterdam:20260821T120000
DTSTAMP:20260421T131313
CREATED:20260420T143037Z
LAST-MODIFIED:20260420T143735Z
UID:583-1787302800-1787313600@bostherapiecentrum.nl
SUMMARY:Shinrin-Yoku
DESCRIPTION:
URL:https://bostherapiecentrum.nl/event/shinrin-yoku-34/
LOCATION:Bergense Bos\, Breelaan 132\, Bergen\, 1861 GH\, Netherlands
ORGANIZER;CN="Patricia Hoekstra":MAILTO:patricia@vislavie.nl
END:VEVENT
BEGIN:VEVENT
DTSTART;TZID=Europe/Amsterdam:20260825T193000
DTEND;TZID=Europe/Amsterdam:20260825T204500
DTSTAMP:20260421T131313
CREATED:20260420T143037Z
LAST-MODIFIED:20260420T143735Z
UID:584-1787686200-1787690700@bostherapiecentrum.nl
SUMMARY:Natuuryoga
DESCRIPTION:
URL:https://bostherapiecentrum.nl/event/natuuryoga-8/
ORGANIZER;CN="Lilian Bensdorp":MAILTO:info@lilianbensdorp.nl
END:VEVENT
BEGIN:VEVENT
DTSTART;TZID=Europe/Amsterdam:20260828T090000
DTEND;TZID=Europe/Amsterdam:20260828T120000
DTSTAMP:20260421T131313
CREATED:20260420T143037Z
LAST-MODIFIED:20260420T143735Z
UID:585-1787907600-1787918400@bostherapiecentrum.nl
SUMMARY:Shinrin-Yoku
DESCRIPTION:
URL:https://bostherapiecentrum.nl/event/shinrin-yoku-35/
LOCATION:Dopersduin (verzamelpunt)\, Oorsprongweg 3\, Schoorl\, 1871 HA\, Netherlands
ORGANIZER;CN="Ingrid Booster":MAILTO:ingridbooster@icloud.com
END:VEVENT
BEGIN:VEVENT
DTSTART;TZID=Europe/Amsterdam:20260830T073000
DTEND;TZID=Europe/Amsterdam:20260830T113000
DTSTAMP:20260421T131313
CREATED:20260420T143037Z
LAST-MODIFIED:20260420T143735Z
UID:586-1788075000-1788089400@bostherapiecentrum.nl
SUMMARY:Shinrin-Yoku
DESCRIPTION:
URL:https://bostherapiecentrum.nl/event/shinrin-yoku-36/
LOCATION:Hoog Moersbergen\, Moersbergen 1\, Doorn\, Netherlands
ORGANIZER;CN="Femke Banga":MAILTO:info@y-ournature.nl
END:VEVENT
BEGIN:VEVENT
DTSTART;TZID=Europe/Amsterdam:20260901T173000
DTEND;TZID=Europe/Amsterdam:20260901T203000
DTSTAMP:20260421T131313
CREATED:20260420T143037Z
LAST-MODIFIED:20260420T143735Z
UID:587-1788283800-1788294600@bostherapiecentrum.nl
SUMMARY:Shinrin-Yoku
DESCRIPTION:
URL:https://bostherapiecentrum.nl/event/shinrin-yoku-37/
LOCATION:Hoog Moersbergen\, Moersbergen 1\, Doorn\, Netherlands
ORGANIZER;CN="Femke Banga":MAILTO:info@y-ournature.nl
END:VEVENT
BEGIN:VEVENT
DTSTART;TZID=Europe/Amsterdam:20260904T090000
DTEND;TZID=Europe/Amsterdam:20260904T110000
DTSTAMP:20260421T131313
CREATED:20260420T143037Z
LAST-MODIFIED:20260420T143735Z
UID:588-1788512400-1788519600@bostherapiecentrum.nl
SUMMARY:Mind-Walk®
DESCRIPTION:
URL:https://bostherapiecentrum.nl/event/mind-walk-29/
LOCATION:De Bokkesprong in Groet
ORGANIZER;CN="Lilian Bensdorp":MAILTO:info@lilianbensdorp.nl
END:VEVENT
BEGIN:VEVENT
DTSTART;TZID=Europe/Amsterdam:20260904T090000
DTEND;TZID=Europe/Amsterdam:20260904T120000
DTSTAMP:20260421T131313
CREATED:20260420T143037Z
LAST-MODIFIED:20260420T143735Z
UID:589-1788512400-1788523200@bostherapiecentrum.nl
SUMMARY:Shinrin-Yoku
DESCRIPTION:
URL:https://bostherapiecentrum.nl/event/shinrin-yoku-38/
LOCATION:Bergense Bos\, Breelaan 132\, Bergen\, 1861 GH\, Netherlands
ORGANIZER;CN="Patricia Hoekstra":MAILTO:patricia@vislavie.nl
END:VEVENT
BEGIN:VEVENT
DTSTART;TZID=Europe/Amsterdam:20260909T090000
DTEND;TZID=Europe/Amsterdam:20260909T120000
DTSTAMP:20260421T131313
CREATED:20260420T143037Z
LAST-MODIFIED:20260420T143735Z
UID:590-1788944400-1788955200@bostherapiecentrum.nl
SUMMARY:Shinrin-Yoku
DESCRIPTION:
URL:https://bostherapiecentrum.nl/event/shinrin-yoku-39/
LOCATION:Dopersduin\, Oorsprongweg 3\, Schoorl\, 1871 HA\, Netherlands
ORGANIZER;CN="Patricia Hoekstra":MAILTO:patricia@vislavie.nl
END:VEVENT
BEGIN:VEVENT
DTSTART;TZID=Europe/Amsterdam:20260914T093000
DTEND;TZID=Europe/Amsterdam:20260914T104500
DTSTAMP:20260421T131313
CREATED:20260420T143037Z
LAST-MODIFIED:20260420T143735Z
UID:591-1789378200-1789382700@bostherapiecentrum.nl
SUMMARY:Natuuryoga
DESCRIPTION:
URL:https://bostherapiecentrum.nl/event/natuuryoga-9/
LOCATION:Nieuwe keuze: Schoorl
ORGANIZER;CN="Patricia Hoekstra":MAILTO:patricia@vislavie.nl
END:VEVENT
BEGIN:VEVENT
DTSTART;TZID=Europe/Amsterdam:20260915T170000
DTEND;TZID=Europe/Amsterdam:20260915T200000
DTSTAMP:20260421T131313
CREATED:20260420T143038Z
LAST-MODIFIED:20260420T143735Z
UID:592-1789491600-1789502400@bostherapiecentrum.nl
SUMMARY:Shinrin-Yoku
DESCRIPTION:
URL:https://bostherapiecentrum.nl/event/shinrin-yoku-40/
LOCATION:De Kozakkenput\, Kampdwarsweg\, Soesterberg\, 3769 DK\, Netherlands
ORGANIZER;CN="Femke Banga":MAILTO:info@y-ournature.nl
END:VEVENT
BEGIN:VEVENT
DTSTART;TZID=Europe/Amsterdam:20260916T090000
DTEND;TZID=Europe/Amsterdam:20260916T120000
DTSTAMP:20260421T131313
CREATED:20260420T143038Z
LAST-MODIFIED:20260420T143735Z
UID:593-1789549200-1789560000@bostherapiecentrum.nl
SUMMARY:Shinrin-Yoku
DESCRIPTION:
URL:https://bostherapiecentrum.nl/event/shinrin-yoku-41/
LOCATION:Delftse Hout\, Noordeindseweg 70\, Delfgauw\, 2645 BC\, Netherlands
ORGANIZER;CN="Birgit Snelleman":MAILTO:birgit@factorv.nl
END:VEVENT
BEGIN:VEVENT
DTSTART;TZID=Europe/Amsterdam:20260918T090000
DTEND;TZID=Europe/Amsterdam:20260918T120000
DTSTAMP:20260421T131313
CREATED:20260420T143038Z
LAST-MODIFIED:20260420T143735Z
UID:594-1789722000-1789732800@bostherapiecentrum.nl
SUMMARY:Mind-Walk®
DESCRIPTION:
URL:https://bostherapiecentrum.nl/event/mind-walk-30/
LOCATION:Dopersduin\, Oorsprongweg 3\, Schoorl\, 1871 HA\, Netherlands
ORGANIZER;CN="Lilian Bensdorp":MAILTO:info@lilianbensdorp.nl
END:VEVENT
BEGIN:VEVENT
DTSTART;TZID=Europe/Amsterdam:20260918T090000
DTEND;TZID=Europe/Amsterdam:20260918T120000
DTSTAMP:20260421T131313
CREATED:20260420T143038Z
LAST-MODIFIED:20260420T143735Z
UID:595-1789722000-1789732800@bostherapiecentrum.nl
SUMMARY:Shinrin-Yoku
DESCRIPTION:
URL:https://bostherapiecentrum.nl/event/shinrin-yoku-42/
LOCATION:Bergense Bos\, Breelaan 132\, Bergen\, 1861 GH\, Netherlands
ORGANIZER;CN="Patricia Hoekstra":MAILTO:patricia@vislavie.nl
END:VEVENT
BEGIN:VEVENT
DTSTART;TZID=Europe/Amsterdam:20260919T093000
DTEND;TZID=Europe/Amsterdam:20260919T123000
DTSTAMP:20260421T131313
CREATED:20260420T143038Z
LAST-MODIFIED:20260420T143735Z
UID:596-1789810200-1789821000@bostherapiecentrum.nl
SUMMARY:Shinrin-Yoku
DESCRIPTION:
URL:https://bostherapiecentrum.nl/event/shinrin-yoku-43/
LOCATION:Veluwe Speulderbos\, Drieërweg 124\, Ermelo\, 3852 MD\, Netherlands
ORGANIZER;CN="Birgit Snelleman":MAILTO:birgit@factorv.nl
END:VEVENT
BEGIN:VEVENT
DTSTART;TZID=Europe/Amsterdam:20260923T090000
DTEND;TZID=Europe/Amsterdam:20260923T120000
DTSTAMP:20260421T131313
CREATED:20260420T143038Z
LAST-MODIFIED:20260420T143735Z
UID:597-1790154000-1790164800@bostherapiecentrum.nl
SUMMARY:Shinrin-Yoku
DESCRIPTION:
URL:https://bostherapiecentrum.nl/event/shinrin-yoku-44/
LOCATION:Dopersduin (verzamelpunt)\, Oorsprongweg 3\, Schoorl\, 1871 HA\, Netherlands
ORGANIZER;CN="Patricia Hoekstra":MAILTO:patricia@vislavie.nl
END:VEVENT
BEGIN:VEVENT
DTSTART;TZID=Europe/Amsterdam:20260927T090000
DTEND;TZID=Europe/Amsterdam:20260927T120000
DTSTAMP:20260421T131313
CREATED:20260420T143038Z
LAST-MODIFIED:20260420T143735Z
UID:598-1790499600-1790510400@bostherapiecentrum.nl
SUMMARY:Shinrin-Yoku
DESCRIPTION:
URL:https://bostherapiecentrum.nl/event/shinrin-yoku-45/
LOCATION:Pinetum Birkhoven
ORGANIZER;CN="Femke Banga":MAILTO:info@y-ournature.nl
END:VEVENT
BEGIN:VEVENT
DTSTART;TZID=Europe/Amsterdam:20260928T093000
DTEND;TZID=Europe/Amsterdam:20260928T104500
DTSTAMP:20260421T131313
CREATED:20260420T143038Z
LAST-MODIFIED:20260420T143735Z
UID:599-1790587800-1790592300@bostherapiecentrum.nl
SUMMARY:Natuuryoga
DESCRIPTION:
URL:https://bostherapiecentrum.nl/event/natuuryoga-10/
LOCATION:Nieuwe keuze: Schoorl
ORGANIZER;CN="Patricia Hoekstra":MAILTO:patricia@vislavie.nl
END:VEVENT
BEGIN:VEVENT
DTSTART;TZID=Europe/Amsterdam:20261002T090000
DTEND;TZID=Europe/Amsterdam:20261002T120000
DTSTAMP:20260421T131313
CREATED:20260420T143038Z
LAST-MODIFIED:20260420T143735Z
UID:600-1790931600-1790942400@bostherapiecentrum.nl
SUMMARY:Shinrin-Yoku
DESCRIPTION:
URL:https://bostherapiecentrum.nl/event/shinrin-yoku-46/
LOCATION:Dopersduin (verzamelpunt)\, Oorsprongweg 3\, Schoorl\, 1871 HA\, Netherlands
ORGANIZER;CN="Lilian Bensdorp":MAILTO:info@lilianbensdorp.nl
END:VEVENT
BEGIN:VEVENT
DTSTART;TZID=Europe/Amsterdam:20261007T090000
DTEND;TZID=Europe/Amsterdam:20261007T110000
DTSTAMP:20260421T131313
CREATED:20260420T143038Z
LAST-MODIFIED:20260420T143735Z
UID:601-1791363600-1791370800@bostherapiecentrum.nl
SUMMARY:Mind-Walk®
DESCRIPTION:
URL:https://bostherapiecentrum.nl/event/mind-walk-31/
LOCATION:Bergense Bos\, Breelaan 132\, Bergen\, 1861 GH\, Netherlands
ORGANIZER;CN="Patricia Hoekstra":MAILTO:patricia@vislavie.nl
END:VEVENT
END:VCALENDAR