BEGIN:VCALENDAR
VERSION:2.0
PRODID:-//bostherapiecentrum - ECPv6.15.20//NONSGML v1.0//EN
CALSCALE:GREGORIAN
METHOD:PUBLISH
X-ORIGINAL-URL:https://bostherapiecentrum.nl
X-WR-CALDESC:Evenementen voor bostherapiecentrum
REFRESH-INTERVAL;VALUE=DURATION:PT1H
X-Robots-Tag:noindex
X-PUBLISHED-TTL:PT1H
BEGIN:VTIMEZONE
TZID:Europe/Amsterdam
BEGIN:DAYLIGHT
TZOFFSETFROM:+0100
TZOFFSETTO:+0200
TZNAME:CEST
DTSTART:20240331T010000
END:DAYLIGHT
BEGIN:STANDARD
TZOFFSETFROM:+0200
TZOFFSETTO:+0100
TZNAME:CET
DTSTART:20241027T010000
END:STANDARD
BEGIN:DAYLIGHT
TZOFFSETFROM:+0100
TZOFFSETTO:+0200
TZNAME:CEST
DTSTART:20250330T010000
END:DAYLIGHT
BEGIN:STANDARD
TZOFFSETFROM:+0200
TZOFFSETTO:+0100
TZNAME:CET
DTSTART:20251026T010000
END:STANDARD
BEGIN:DAYLIGHT
TZOFFSETFROM:+0100
TZOFFSETTO:+0200
TZNAME:CEST
DTSTART:20260329T010000
END:DAYLIGHT
BEGIN:STANDARD
TZOFFSETFROM:+0200
TZOFFSETTO:+0100
TZNAME:CET
DTSTART:20261025T010000
END:STANDARD
BEGIN:DAYLIGHT
TZOFFSETFROM:+0100
TZOFFSETTO:+0200
TZNAME:CEST
DTSTART:20270328T010000
END:DAYLIGHT
BEGIN:STANDARD
TZOFFSETFROM:+0200
TZOFFSETTO:+0100
TZNAME:CET
DTSTART:20271031T010000
END:STANDARD
END:VTIMEZONE
BEGIN:VEVENT
DTSTART;TZID=Europe/Amsterdam:20250204T090000
DTEND;TZID=Europe/Amsterdam:20250204T110000
DTSTAMP:20260421T193830
CREATED:20251225T150620Z
LAST-MODIFIED:20251225T150620Z
UID:109-1738659600-1738666800@bostherapiecentrum.nl
SUMMARY:Mind-Walk®
DESCRIPTION:Tarief: €39\,50 per persoon \nMaximaal aantal deelnemers: 6
URL:https://bostherapiecentrum.nl/event/mind-walk-4/
LOCATION:Dopersduin (verzamelpunt)\, Oorsprongweg 3\, Schoorl\, 1871 HA\, Netherlands
ORGANIZER;CN="Lilian Bensdorp":MAILTO:info@lilianbensdorp.nl
END:VEVENT
BEGIN:VEVENT
DTSTART;TZID=Europe/Amsterdam:20250204T090000
DTEND;TZID=Europe/Amsterdam:20250204T110000
DTSTAMP:20260421T193830
CREATED:20251225T150620Z
LAST-MODIFIED:20251225T150620Z
UID:347-1738659600-1738666800@bostherapiecentrum.nl
SUMMARY:Mind-Walk®
DESCRIPTION:Tarief: €39\,50 per persoon \nMaximaal aantal deelnemers: 6
URL:https://bostherapiecentrum.nl/event/mind-walk-4-2/
LOCATION:Dopersduin (verzamelpunt)\, Oorsprongweg 3\, Schoorl\, 1871 HA\, Netherlands
ORGANIZER;CN="Lilian Bensdorp":MAILTO:info@lilianbensdorp.nl
END:VEVENT
BEGIN:VEVENT
DTSTART;TZID=Europe/Amsterdam:20250212T090000
DTEND;TZID=Europe/Amsterdam:20250212T120000
DTSTAMP:20260421T193830
CREATED:20251225T150620Z
LAST-MODIFIED:20251225T150620Z
UID:349-1739350800-1739361600@bostherapiecentrum.nl
SUMMARY:Shinrin-Yoku wandeling
DESCRIPTION:Tarief: €39\,50 per persoon \nMaximaal aantal deelnemers: 6
URL:https://bostherapiecentrum.nl/event/shinrin-yoku-wandeling-9-2/
LOCATION:Birkhoven\, Zandlaan 148\, Soest\, 3768 HP\, Netherlands
ORGANIZER;CN="Femke Banga":MAILTO:info@y-ournature.nl
END:VEVENT
BEGIN:VEVENT
DTSTART;TZID=Europe/Amsterdam:20250212T090000
DTEND;TZID=Europe/Amsterdam:20250212T120000
DTSTAMP:20260421T193830
CREATED:20251225T150620Z
LAST-MODIFIED:20251225T150620Z
UID:350-1739350800-1739361600@bostherapiecentrum.nl
SUMMARY:Shinrin-Yoku wandeling
DESCRIPTION:Tarief: €39\,50 per persoon \nMaximaal aantal deelnemers: 6
URL:https://bostherapiecentrum.nl/event/shinrin-yoku-wandeling-10-2/
LOCATION:Dopersduin\, Oorsprongweg 3\, Schoorl\, 1871 HA\, Netherlands
ORGANIZER;CN="Ton Bremer":MAILTO:bostonbremer@icloud.com
END:VEVENT
BEGIN:VEVENT
DTSTART;TZID=Europe/Amsterdam:20250212T090000
DTEND;TZID=Europe/Amsterdam:20250212T120000
DTSTAMP:20260421T193830
CREATED:20251225T150620Z
LAST-MODIFIED:20251225T150620Z
UID:111-1739350800-1739361600@bostherapiecentrum.nl
SUMMARY:Shinrin-Yoku wandeling
DESCRIPTION:Tarief: €39\,50 per persoon \nMaximaal aantal deelnemers: 6
URL:https://bostherapiecentrum.nl/event/shinrin-yoku-wandeling-9/
LOCATION:Birkhoven\, Zandlaan 148\, Soest\, 3768 HP\, Netherlands
ORGANIZER;CN="Femke Banga":MAILTO:info@y-ournature.nl
END:VEVENT
BEGIN:VEVENT
DTSTART;TZID=Europe/Amsterdam:20250212T090000
DTEND;TZID=Europe/Amsterdam:20250212T120000
DTSTAMP:20260421T193830
CREATED:20251225T150620Z
LAST-MODIFIED:20251225T150620Z
UID:112-1739350800-1739361600@bostherapiecentrum.nl
SUMMARY:Shinrin-Yoku wandeling
DESCRIPTION:Tarief: €39\,50 per persoon \nMaximaal aantal deelnemers: 6
URL:https://bostherapiecentrum.nl/event/shinrin-yoku-wandeling-10/
LOCATION:Dopersduin\, Oorsprongweg 3\, Schoorl\, 1871 HA\, Netherlands
ORGANIZER;CN="Ton Bremer":MAILTO:bostonbremer@icloud.com
END:VEVENT
BEGIN:VEVENT
DTSTART;TZID=Europe/Amsterdam:20250212T143000
DTEND;TZID=Europe/Amsterdam:20250212T163000
DTSTAMP:20260421T193830
CREATED:20251225T150620Z
LAST-MODIFIED:20251225T150620Z
UID:348-1739370600-1739377800@bostherapiecentrum.nl
SUMMARY:Kinderwandeling
DESCRIPTION:Tarief: €39\,50 per persoon \nMaximaal aantal deelnemers: 6
URL:https://bostherapiecentrum.nl/event/kinderwandeling-2-2/
LOCATION:Dopersduin (verzamelpunt)\, Oorsprongweg 3\, Schoorl\, 1871 HA\, Netherlands
ORGANIZER;CN="Allet Geertman":MAILTO:allet.geertman@gmail.com
END:VEVENT
BEGIN:VEVENT
DTSTART;TZID=Europe/Amsterdam:20250212T143000
DTEND;TZID=Europe/Amsterdam:20250212T163000
DTSTAMP:20260421T193830
CREATED:20251225T150620Z
LAST-MODIFIED:20251225T150620Z
UID:110-1739370600-1739377800@bostherapiecentrum.nl
SUMMARY:Kinderwandeling
DESCRIPTION:Tarief: €39\,50 per persoon \nMaximaal aantal deelnemers: 6
URL:https://bostherapiecentrum.nl/event/kinderwandeling-2/
LOCATION:Dopersduin (verzamelpunt)\, Oorsprongweg 3\, Schoorl\, 1871 HA\, Netherlands
ORGANIZER;CN="Allet Geertman":MAILTO:allet.geertman@gmail.com
END:VEVENT
BEGIN:VEVENT
DTSTART;TZID=Europe/Amsterdam:20260119T090000
DTEND;TZID=Europe/Amsterdam:20260119T110000
DTSTAMP:20260421T193830
CREATED:20251225T150620Z
LAST-MODIFIED:20251225T150620Z
UID:113-1768813200-1768820400@bostherapiecentrum.nl
SUMMARY:Mind-Walk®
DESCRIPTION:Tarief: €39\,50 per persoon \nMaximaal aantal deelnemers: 6
URL:https://bostherapiecentrum.nl/event/mind-walk-5/
LOCATION:Dopersduin (verzamelpunt)\, Oorsprongweg 3\, Schoorl\, 1871 HA\, Netherlands
ORGANIZER;CN="Lilian Bensdorp":MAILTO:info@lilianbensdorp.nl
END:VEVENT
BEGIN:VEVENT
DTSTART;TZID=Europe/Amsterdam:20250219T130000
DTEND;TZID=Europe/Amsterdam:20250219T160000
DTSTAMP:20260421T193830
CREATED:20251225T150620Z
LAST-MODIFIED:20251225T150620Z
UID:114-1739970000-1739980800@bostherapiecentrum.nl
SUMMARY:Shinrin-Yoku wandeling
DESCRIPTION:Tarief: €39\,50 per persoon \nMaximaal aantal deelnemers: 6
URL:https://bostherapiecentrum.nl/event/shinrin-yoku-wandeling-11/
LOCATION:Hoog Moersbergen\, Moersbergen 1\, Doorn\, Netherlands
ORGANIZER;CN="Femke Banga":MAILTO:info@y-ournature.nl
END:VEVENT
BEGIN:VEVENT
DTSTART;TZID=Europe/Amsterdam:20250219T130000
DTEND;TZID=Europe/Amsterdam:20250219T160000
DTSTAMP:20260421T193830
CREATED:20251225T150620Z
LAST-MODIFIED:20251225T150620Z
UID:352-1739970000-1739980800@bostherapiecentrum.nl
SUMMARY:Shinrin-Yoku wandeling
DESCRIPTION:Tarief: €39\,50 per persoon \nMaximaal aantal deelnemers: 6
URL:https://bostherapiecentrum.nl/event/shinrin-yoku-wandeling-11-2/
LOCATION:Hoog Moersbergen\, Moersbergen 1\, Doorn\, Netherlands
ORGANIZER;CN="Femke Banga":MAILTO:info@y-ournature.nl
END:VEVENT
BEGIN:VEVENT
DTSTART;TZID=Europe/Amsterdam:20250226T143000
DTEND;TZID=Europe/Amsterdam:20250226T163000
DTSTAMP:20260421T193830
CREATED:20251225T150620Z
LAST-MODIFIED:20251225T150620Z
UID:115-1740580200-1740587400@bostherapiecentrum.nl
SUMMARY:Kinderwandeling
DESCRIPTION:Tarief: €39\,50 per persoon \nMaximaal aantal deelnemers: 6
URL:https://bostherapiecentrum.nl/event/kinderwandeling-3/
LOCATION:Dopersduin (verzamelpunt)\, Oorsprongweg 3\, Schoorl\, 1871 HA\, Netherlands
ORGANIZER;CN="Allet Geertman":MAILTO:allet.geertman@gmail.com
END:VEVENT
BEGIN:VEVENT
DTSTART;TZID=Europe/Amsterdam:20250226T143000
DTEND;TZID=Europe/Amsterdam:20250226T163000
DTSTAMP:20260421T193830
CREATED:20251225T150620Z
LAST-MODIFIED:20251225T150620Z
UID:353-1740580200-1740587400@bostherapiecentrum.nl
SUMMARY:Kinderwandeling
DESCRIPTION:Tarief: €39\,50 per persoon \nMaximaal aantal deelnemers: 6
URL:https://bostherapiecentrum.nl/event/kinderwandeling-3-2/
LOCATION:Dopersduin (verzamelpunt)\, Oorsprongweg 3\, Schoorl\, 1871 HA\, Netherlands
ORGANIZER;CN="Allet Geertman":MAILTO:allet.geertman@gmail.com
END:VEVENT
BEGIN:VEVENT
DTSTART;TZID=Europe/Amsterdam:20250228T090000
DTEND;TZID=Europe/Amsterdam:20250228T120000
DTSTAMP:20260421T193830
CREATED:20251225T150620Z
LAST-MODIFIED:20251225T150620Z
UID:116-1740733200-1740744000@bostherapiecentrum.nl
SUMMARY:Shinrin-Yoku wandeling
DESCRIPTION:Tarief: €39\,50 per persoon \nMaximaal aantal deelnemers: 6
URL:https://bostherapiecentrum.nl/event/shinrin-yoku-wandeling-12/
LOCATION:Bergense Bos\, Breelaan 132\, Bergen\, 1861 GH\, Netherlands
ORGANIZER;CN="Patricia Hoekstra":MAILTO:patricia@vislavie.nl
END:VEVENT
BEGIN:VEVENT
DTSTART;TZID=Europe/Amsterdam:20250228T090000
DTEND;TZID=Europe/Amsterdam:20250228T120000
DTSTAMP:20260421T193830
CREATED:20251225T150620Z
LAST-MODIFIED:20251225T150620Z
UID:354-1740733200-1740744000@bostherapiecentrum.nl
SUMMARY:Shinrin-Yoku wandeling
DESCRIPTION:Tarief: €39\,50 per persoon \nMaximaal aantal deelnemers: 6
URL:https://bostherapiecentrum.nl/event/shinrin-yoku-wandeling-12-2/
LOCATION:Bergense Bos\, Breelaan 132\, Bergen\, 1861 GH\, Netherlands
ORGANIZER;CN="Patricia Hoekstra":MAILTO:patricia@vislavie.nl
END:VEVENT
END:VCALENDAR